0.3
0
0
-0.3
531000.15
3572999.85
