0.3
0
0
-0.3
525000.15
3575999.85
