0.3
0
0
-0.3
519000.15
3563999.85
