0.3
0
0
-0.3
519000.15
3548999.85
