0.3
0
0
-0.3
516000.15
3566999.85
