0.3
0
0
-0.3
516000.15
3548999.85
