0.3
0
0
-0.3
510000.15
3551999.85
