0.3
0
0
-0.3
507000.15
3545999.85
