0.3
0
0
-0.3
501000.15
3545999.85
