0.3
0
0
-0.3
498000.15
3536999.85
