0.3
0
0
-0.3
495000.15
3539999.85
