0.3
0
0
-0.3
489000.15
3545999.85
