0.3
0
0
-0.3
486000.15
3542999.85
