0.500000
0.000000
0.000000
-0.500000
980000.250000
789999.750000
