0.500000
0.000000
0.000000
-0.500000
980000.250000
704999.750000
