0.500000
0.000000
0.000000
-0.500000
975000.250000
779999.750000
