0.500000
0.000000
0.000000
-0.500000
975000.250000
724999.750000
