0.500000
0.000000
0.000000
-0.500000
965000.250000
774999.750000
