0.500000
0.000000
0.000000
-0.500000
960000.250000
774999.750000
