0.500000
0.000000
0.000000
-0.500000
955000.250000
544999.750000
