0.500000
0.000000
0.000000
-0.500000
945000.250000
759999.750000
