0.500000
0.000000
0.000000
-0.500000
945000.250000
689999.750000
