0.500000
0.000000
0.000000
-0.500000
940000.250000
564999.750000
