0.500000
0.000000
0.000000
-0.500000
935000.250000
544999.750000
