0.500000
0.000000
0.000000
-0.500000
925000.250000
639999.750000
