0.500000
0.000000
0.000000
-0.500000
905000.250000
564999.750000
