0.500000
0.000000
0.000000
-0.500000
890000.250000
559999.750000
