0.500000
0.000000
0.000000
-0.500000
880000.250000
534999.750000
