0.500000
0.000000
0.000000
-0.500000
875000.250000
499999.750000
