0.500000
0.000000
0.000000
-0.500000
870000.250000
644999.750000
