0.500000
0.000000
0.000000
-0.500000
865000.250000
469999.750000
