0.500000
0.000000
0.000000
-0.500000
860000.250000
284999.750000
