0.500000
0.000000
0.000000
-0.500000
860000.250000
274999.750000
