0.500000
0.000000
0.000000
-0.500000
855000.250000
509999.750000
