0.5
0
0
-0.5
855000.25
379999.75
