0.5
0
0
-0.5
850000.25
364999.75
