0.5
0
0
-0.5
845000.25
359999.75
