0.500000
0.000000
0.000000
-0.500000
840000.250000
574999.750000
