0.500000
0.000000
0.000000
-0.500000
835000.250000
524999.750000
