0.500000
0.000000
0.000000
-0.500000
835000.250000
429999.750000
