0.5
0
0
-0.5
835000.25
364999.75
