0.500000
0.000000
0.000000
-0.500000
830000.250000
654999.750000
