0.500000
0.000000
0.000000
-0.500000
820000.250000
519999.750000
