0.500000
0.000000
0.000000
-0.500000
820000.250000
404999.750000
