0.500000
0.000000
0.000000
-0.500000
815000.250000
609999.750000
