0.500000
0.000000
0.000000
-0.500000
790000.250000
584999.750000
