0.500000
0.000000
0.000000
-0.500000
785000.250000
629999.750000
