0.500000
0.000000
0.000000
-0.500000
780000.250000
574999.750000
