0.500000
0.000000
0.000000
-0.500000
775000.250000
604999.750000
