0.500000
0.000000
0.000000
-0.500000
765000.250000
649999.750000
